Workbook

Sheet Conformités
A1: Oui/Non | G1: Toujours
A2: Oui | G2: Parfois
A3: Non | G3: Jamais
A4: Non applicable

Sheet Consignes
B1: Consignes d'utilisation de l'autodiagnostic
B3: Ce document comprend 4 onglets : Consignes, Autodiagnostic, Bilan et Plan d'action
B5: Etape 1 : Remplir l'autodiagnostic
B7: L’autodiagnostic est organisé en plusieurs colonnes :
B9: Colonne A – Thématique
B10: Les questions sont regroupées par thématiques. Elles peuvent porter sur les infrastructures, l’expérience des visiteurs ou l’organisation interne de l’événement.
B12: Colonnes B et C – Question et précisions
B13: La colonne B présente la question d’accessibilité en lien avec la thématique. La colonne C apporte, lorsque nécessaire, des précisions pour mieux comprendre ce qui est attendu.
B15: Colonne D – Réponse
B16: C’est dans cette colonne que vous devez répondre aux questions à l’aide d’une liste déroulante. Les choix proposés sont généralement Oui ou Non, avec parfois l’option Non applicable.
B18: Colonne E – Score (calcul automatique)
B19: Le score est calculé automatiquement selon votre réponse et le niveau de priorité associé à la question. Aucune intervention n’est nécessaire dans cette colonne.
... B56: Par défaut, les actions y sont présentées par thématique. Vous pouvez ensuite les filtrer ou les trier selon vos préférences, par exemple en fonction du niveau de priorité ou du niveau d’effort.
B60: #VALUE!
B61: #VALUE!

Sheet Autodiagnostic
A1: Thématiques | B1: Question | C1: Précision de question | D1: Réponse | E1: Score | F1: Priorité | G1: Effort estimé | H1: Justification de l'effort requis | I1: Action à prévoir (s'affiche selon votre réponse) | J1: Expérience | K1: Infrastructure | L1: Dépendance de question
A2: A1. Organisation et information : équipe interne | B2: Une personne responsable de l’accessibilité est-elle identifiée au sein de l’équipe d’organisation ? | C2: La personne ressource coordonne l'accessibilité entre l'ensemble des services et est aussi le référent pour les questions des participants. | E2: {=_xlfn.IFS(D2="Oui",6,D2="Non",0)} -> #N/A | F2: Niv. 1 | G2: Faible | H2: Décision interne, sans aménagement ni coût important. | I2: =IF(D2="Non","Nommer une personne responsable","") | J2: X | L2: Choix déroulant oui / non
A3: A2. Organisation et information : équipe interne | B3: Les fournisseurs / exposants ont-ils été sensibilisés à l'accueil des personnes en situation de handicap ? | C3: Formation ou guide d'exposant présentant des bonnes pratiques à adopter | E3: {=_xlfn.IFS(D3="Oui",2,D3="Non",0)} -> #N/A | F3: Niv. 3 | G3: Moyen | H3: Plusieurs moyens possibles (formation, guide, consignes, etc.), mais l’adhésion aux valeurs de l'évènement peut être plus difficile à obtenir auprès de prestataires externes | I3: =IF(D3="Non","Sensibiliser les fournisseurs/exposants à l'accessibilité","") | J3: X | L3: Choix déroulant oui / non
A4: A3. Organisation et information : équipe interne | B4: L'équipe permanente a-t-elle suivi une formation sur l'accessibilité aux personnes en situation de handicap ? | C4: Prendre en compte toutes les équipes qui sont en contact avec le public (employés, bénévoles, sécurité, intervenants, etc.). | E4: {=_xlfn.IFS(D4="Oui",6,D4="Non",0,D4="Non applicable","N/A")} -> #N/A | F4: Niv. 1 | G4: Faible | H4: Plusieurs moyens possibles (formation, guide, sensibilisation interne, etc.) pendant un temps d’équipe | I4: =IF(D4="Non","Former l'équipe permanente","") | J4: X | L4: Choix déroulant oui / non
A5: A4. Organisation et information : équipe interne | B5: Les personnes en situation de handicap (divers handicaps) ont-elles été impliquées dans l'organisation du festival? | E5: {=_xlfn.IFS(D5="Oui",6,D5="Non",0)} -> #N/A | F5: Niv. 1 | G5: Moyen | H5: De nombreuses associations locales peuvent être sollicitées, mais la démarche peut demander du temps pour établir et maintenir une collaboration. | I5: =IF(D5="Non","Impliquer des personnes en situation de handicap dans l'organisation du festival","") | J5: X | L5: Choix déroulant oui / non
A6: A5. Organisation et information : équipe interne | B6: Une politique/plan d’action en accessibilité est-elle mise en place pour l'évènement ? | C6: Document structurant les actions d'accessibilité mises en place et les orientations du festival en matière d'accessibilité pour les éditions à suivre | E6: {=_xlfn.IFS(D6="Oui",6,D6="Non",0)} -> #N/A | F6: Niv. 1 | G6: Moyen | H6: Organisation interne, temps d'équipe, nécessite une réflexion structurée, des priorités et un suivi | I6: =IF(D6="Non","Créer un plan d'action sur 3 ou 5 ans","") | J6: X | L6: Choix déroulant oui / non
A7: A6. Organisation et information : équipe interne | B7: Le parcours (accès, espaces de circulation, toilettes) est-il testé par des personnes handicapées avant l'événement ? | E7: {=_xlfn.IFS(D7="Oui",4,D7="Non",0,D7="Non applicable","N/A")} -> #N/A | F7: Niv. 2 | G7: Faible | H7: Organisation ponctuelle, demande peu de temps | I7: =IF(D7="Non","Faire tester le parcours par des personnes en situation de handicap","") | J7: X | L7: Choix déroulant oui / non / non applicable si pas de parcours
A8: A7. Organisation et information : équipe interne | B8: Avez-vous un aide-mémoire de bonnes pratiques pour l'accueil des personnes en situation de handicap ? | C8: Aide-mémoire à destination des employés, bénévoles ou autres personnes travaillant au contact avec la clientèle (exposants, sécurité, ...). | E8: {=_xlfn.IFS(D8="Oui",2,D8="Non",0)} -> #N/A | F8: Niv. 3 | G8: Moyen | H8: Effort pour la rédaction initiale puis mise à jour régulière. À diffuser auprès de nombreux prestataires externes. | I8: =IF(D8="Non","Rédiger un aide-mémoire de bonnes pratiques d'accueil","") | J8: X | L8: Choix déroulant oui / non
A9: B1. Information et communication grand public (site web, affiches, réseaux sociaux, ...) | B9: Votre site Web et votre billetterie en ligne peuvent-ils être utilisés facilement par une personne qui agrandit le texte, navigue au clavier ou utilise un lecteur d’écran? | E9: {=_xlfn.IFS(D9="Oui",4,D9="Non",0,D9="Non applicable","N/A")} -> #N/A | F9: Niv. 2 | G9: Fort | H9: Effort important car il faut faire appel à des spécialistes de programmation en accessibilité numérique et coûts associés | I9: =IF(D9="Non","Évaluer l'accessibilité numérique de votre site web","") | J9: X | L9: Choix déroulant oui / non / non applicable si pas de site web ou billeterie
A10: B2. Information et communication grand public (site web, affiches, réseaux sociaux, ...) | B10: Les mesures d'accessibilité (services et équipements) sont-elles clairement indiquées sur le site web ou tout autre support de communication ? | C10: Les conditions de réservation ou d'utilisation de chacun des services sont indiqués. Les services accessibles peuvent être des concerts signés, du sous/sur-titrage, de l'audiodescription, réservation de veste vibrante, accès des zones particulières... | E10: {=_xlfn.IFS(D10="Oui",4,D10="Non",0,D10="Non applicable","N/A")} -> #N/A | F10: Niv. 2 | G10: Faible | H10: Révision du contenu existant, ajouts éventuels mais sans développement majeur | I10: =IF(D10="Non","Valider la clarté et la lisibilité des infos pratiques sur le site web et autres supports de communication","") | J10: X | L10: Choix déroulant oui / non / non applicable si pas de site web ou billeterie
A11: B3. Information et communication grand public (site web, affiches, réseaux sociaux, ...) | B11: Transmettez-vous des informations sur votre accessibilité dans différents supports de communication (site web, affiches, réseaux sociaux) ? | C11: Les informations d'accessibilité incluent des informations concernant le stationnement, la circulation sur place, les modalités de réservation, la billeterie, les services/équipements offerts, ... | E11: {=_xlfn.IFS(D11="Non",0,D11="Oui", 6,D11="Non applicable","N/A")} -> #N/A | F11: Niv. 1 | G11: Faible | H11: Réutilisation d'informations existantes sur plusieurs canaux, peu de développement | I11: =IF(D11="Non","Communiquer les informations d'accessibilité sur différents supports","") | J11: X | L11: Choix déroulant oui / non / non applicable
A12: B4. Information et communication grand public (site web, affiches, réseaux sociaux, ...) | B12: Les informations sur l’accessibilité sont-elles regroupées dans une page sur votre site web facile à trouver depuis la page d'accueil ? | C12: Peut-être sur une page dédiée à l'accessibilité, une page d'informations pratiques ou autre | E12: {=_xlfn.IFS(D12="Oui",6,D12="Non",0,D12="Non applicable","N/A")} -> #N/A | F12: Niv. 1 | G12: Faible | H12: Pas de développement majeur, ajout d'une page ou modification simple de la navigation (lien visible) | I12: =IF(D12="Non","Accéder facilement aux informations sur l'accessibilité depuis la page d'accueil du site web","") | J12: X | L12: Choix déroulant oui / non / non applicable si pas de site web
A13: B5. Information et communication grand public (site web, affiches, réseaux sociaux, ...) | B13: Une même information est-elle partagée sous 2 différents formats minimum (ex : écrit, audio, langue des signes, numérique, imprimée)? | C13: Texte régulier, texte FALC, langue des signes, texte braille, vidéos, audio, plans, … | E13: {=_xlfn.IFS(D13="Oui",4,D13="Non",0)} -> #N/A | F13: Niv. 2 | G13: Moyen | H13: Coordination et uniformisation de plusieurs moyens de communication qui demande du temps et de la rigueur | I13: =IF(D13="Non","Transmettre les informations au public par des moyens complémentaires","") | J13: X | L13: Choix déroulant oui / non
A14: B6. Information et communication grand public (site web, affiches, réseaux sociaux, ...) | B14: La programmation est-elle présentée dans différents formats (audio, texte)? | E14: {=_xlfn.IFS(D14="Oui",2,D14="Non",0,D14="Non applicable","N/A")} -> #N/A | F14: Niv. 3 | G14: Moyen | H14: Création et production du contenu sous plusieurs versions qui demande du temps et une préparation préalable | I14: =IF(D14="Non","Présenter la programmation de l'événement sous différents formats","") | J14: X | L14: Choix déroulant oui / non / non applicable si pas de programmation
A15: B7. Information et communication grand public (site web, affiches, réseaux sociaux, ...) | B15: La programmation est-elle présentée de manière structurée : date, lieu, artiste, horaire.... ? | C15: La programmation est présentée selon une structure claire et constante. Les informations sont organisées autour d’un élément principal (par exemple la date), puis complétées par les informations associées (lieu, artiste, horaire, etc.). | E15: {=_xlfn.IFS(D15="Oui",6,D15="Non",0,D15="Non applicable","N/A")} -> #N/A | F15: Niv. 1 | G15: Moyen | H15: Exercice complexe : nécessite de choisir une logique de présentation claire (par date, lieu, artiste, etc.) et un format adapté (tableau, texte, grille, etc.). | I15: =IF(D15="Non","Structurer la présentation de la programmation","") | J15: X | L15: Choix déroulant oui / non / non applicable si pas de programmation
A16: C1. Organisation : bénévoles et personnel d'accueil | B16: Y a-t-il des personnes dédiées et formées pour répondre aux besoins spécifiques, pendant l'événement ? | C16: Service nourriture/boisson, accompagnement, orientation, ... | E16: {=_xlfn.IFS(D16="Oui",4,D16="Non",0)} -> #N/A | F16: Niv. 2 | G16: Moyen | H16: Recrutement et mobilisation de ressources humaines | I16: =IF(D16="Non","Désigner et former des personnes dédiées aux besoins spécifiques pendant l'événement.","") | J16: X | L16: Choix déroulant oui / non
A17: C2. Organisation : bénévoles et personnel d'accueil | B17: L’équipe dédiée aux besoins des personnes en situation de handicap est-elle clairement identifiée ? | C17: Gilets ou dossard réfléchissant, ballon en l'air, ... | E17: {=_xlfn.IFS(D17="Oui",4,D17="Non",0,D17="Non applicable","N/A")} -> #N/A | F17: Niv. 2 | G17: Faible | H17: Peut nécessiter l'achat de signalétique et s'appuyer sur des solutions simples et peu coûteuses pour rendre l'équipe plus visible. | I17: =IF(D17="Non","Identifier clairement l'équipe dédiée (kiosque de repérage, vêtement coloré, etc.).","") | J17: X | L17: Dépendant C1 - Si oui = choix déroulant oui / non Si non = Non applicable
A18: D1. Stationnement | B18: Des espaces de stationnement réservés aux personnes handicapées sont-ils prévus ? | E18: {=_xlfn.IFS(D18="Oui",6,D18="Non",0)} -> #N/A | F18: Niv. 1 | G18: Faible | H18: Relève de la logistique, peu contraignant puisqu'un stationnement régulier existe déjà la plupart du temps | I18: =IF(D18="Non","Prévoir des espaces de stationnement réservés aux personnes handicapées.","") | K18: X | L18: Choix déroulant oui / non
A19: D2. Stationnement | B19: Les espaces de stationnement réservé sont-ils situés à proximité de l’entrée principale ? | C19: À moins de 50 mètres de l'entrée accessible | E19: {=_xlfn.IFS(D19="Oui",6,D19="Non",0,D19="Non applicable","N/A")} -> #N/A | F19: Niv. 1 | G19: Moyen | H19: Effort variable selon l’aménagement du site : peu contraignant si le stationnement est déjà à proximité, mais peut nécessiter une réorganisation des espaces dans certains cas. | I19: =IF(D19="Non","Situer les espaces réservés à proximité de l'entrée principale.","") | K19: X | L19: Dépendant D1 - Si oui = choix oui / non Si non = Non applicable
A20: D3. Stationnement | B20: Les espaces de stationnement réservés sont-ils assez larges pour pouvoir déplier une rampe d'accès latérale (largeur totale d'environ 4 mètres) ? | C20: Largeur totale de 3,9 m soit place régulière de 2,4m + 1,5 m allée latérale | E20: {=_xlfn.IFS(D20="Oui",6,D20="Non",0,D20="Non applicable","N/A")} -> #N/A | F20: Niv. 1 | G20: Faible | H20: Peu contraignant lorsque les espaces sont délimités temporairement : l’aménagement peut être ajusté sans travaux permanents ni permis. | I20: =IF(D20="Non","Prévoir des espaces réservés assez larges (environ 4 m) pour déplier une rampe d'accès latérale.","") | K20: X | L20: Dépendant D1 - Si oui = choix oui / non Si non = Non applicable
A21: D4. Stationnement | B21: Les espaces réservés sont-ils aménagés sur un revêtement dur et sans pente ? | E21: {=_xlfn.IFS(D21="Oui",6,D21="Non",0,D21="Non applicable","N/A")} -> #N/A | F21: Niv. 1 | G21: Moyen | H21: Peut nécessiter une intervention sur le sol, des autorisations ou l’implication du propriétaire ou de la municipalité, hors du contrôle de l'évènement. | I21: =IF(D21="Non","Aménager les espaces réservés sur un revêtement dur et sans pente.","") | K21: X | L21: Dépendant D1 - Si oui = choix oui / non Si non = Non applicable
A22: D5. Stationnement | B22: Ces espaces réservés sont-ils identifiés par un panneau avec le pictogramme du handicap universel ? | C22: Normalement au sol et avec un panneau mais au minimum avec un panneau | E22: {=_xlfn.IFS(D22="Oui",4,D22="Non",0,D22="Non applicable","N/A")} -> #N/A | F22: Niv. 2 | G22: Faible | H22: Achat et installation de signalisation temporaire simple | I22: =IF(D22="Non","Identifier les espaces réservés par un panneau au pictogramme du handicap universel.","") | K22: X | L22: Dépendant D1 - Si oui = choix oui / non Si non = Non applicable
A23: D6. Stationnement | B23: Un débarcadère à votre site est-il prévu ? | C23: Emplacement en retrait de la circulation à proximité de l'entrée pour déposer des festivaliers. Peut aussi être un débarcadère de transport adapté. | E23: {=_xlfn.IFS(D23="Oui",4,D23="Non",0)} -> #N/A | F23: Niv. 2 | G23: Moyen | H23: Réflexion sur l'aménagement du site et parfois démarches administratives pour faire reconnaître le débarcadère auprès du service du transport adapté | I23: =IF(D23="Non","Prévoir un débarcadère accessible sur le site.","") | K23: X | L23: Choix déroulant oui / non
A24: D7. Stationnement | B24: Du mobilier pour s'asseoir (bancs, chaises...) est-il disponibles à proximité du débarcadère ? | E24: {=_xlfn.IFS(D24="Oui",4,D24="Non",0,D24="Non applicable","N/A")} -> #N/A | F24: Niv. 2 | G24: Faible | H24: Très simple, ajout de mobilier | I24: =IF(D24="Non","Installer du mobilier pour s'asseoir à proximité du débarcadère.","") | K24: X | L24: Dépendant D6 - Si oui = choix oui / non Si non = Non applicable
A25: D8. Stationnement | B25: Le débarcadère est-il protégé des intempéries ? | E25: {=_xlfn.IFS(D25="Oui",2,D25="Non",0,D25="Non applicable","N/A")} -> #N/A | F25: Niv. 3 | G25: Moyen | H25: Nécessite l'installation d'un abri, d'une toile ou d'une structure, relativement simple mais temps d'installation à prévoir en plus | I25: =IF(D25="Non","Protéger le débarcadère des intempéries.","") | K25: X | L25: Dépendant D6 - Si oui = choix oui / non Si non = Non applicable
A26: D9. Stationnement | B26: Le débarcadère permet-il une dépose sécuritaire, sans avoir à traverser une voie de circulation automobile ? | E26: {=_xlfn.IFS(D26="Oui",4,D26="Non",0,D26="Non applicable","N/A")} -> #N/A | F26: Niv. 2 | G26: Moyen | H26: Réflexion sur l'aménagement du site | I26: =IF(D26="Non","Aménager le débarcadère pour une dépose sécuritaire, sans traversée d'une voie de circulation.","") | K26: X | L26: Dépendant D6 - Si oui = choix oui / non Si non = Non applicable
A27: E1. Admission / Billetterie | B27: Y a-t-il des tarifs préférentiels pour les personnes en situation de handicap ? | C27: Les tarifs préférentiels peuvent être l'acceptation Carte Accompagnement Loisirs (CAL), la gratuité pour le festivalier en situation de handicap, la gratuité pour l'accompagnateur, un rabais sur le prix du billet, ... | E27: {=_xlfn.IFS(D27="Oui",4,D27="Non",0,D27="Non applicable","N/A")} -> #N/A | F27: Niv. 2 | G27: Faible | H27: Modification simple de la stratégie tarifaire, démarches simples pour accepter la Carte CAL | I27: =IF(D27="Non","Offrir des tarifs préférentiels aux personnes en situation de handicap.","") | J27: X | L27: Choix déroulant oui / non / non applicable si évènement gratuit
A28: E2. Admission / Billetterie | B28: Y a-t-il au moins 2 moyens complémentaires pour acheter des billets (par écrit et en personne) ? | C28: Un moyen oral (téléphone ou billeterie physique) et un moyen écrit (courriel, billeterie en ligne) | E28: {=_xlfn.IFS(D28="Oui",4,D28="Non",0,D28="Non applicable","N/A")} -> #N/A | F28: Niv. 2 | G28: Fort | H28: Inclus parfois des contraintes logistiques et technologiques (changement de système de billeterie) ou ressources humaines supplémentaires requises | I28: =IF(D28="Non","Offrir au moins 2 moyens complémentaires pour acheter des billets (en ligne/écrit et en personne/par téléphone).","") | J28: X | L28: Dépendant E1 - Si oui ou non = choix déroulant oui / non Si non applicable = Non applicable
A29: E3. Admission / Billetterie | B29: La largeur des passages et files d’attente permet-elle la circulation et les manœuvres d’une personne en fauteuil roulant ? | E29: {=_xlfn.IFS(D29="Oui",6,D29="Non",0)} -> #N/A | F29: Niv. 1 | G29: Faible | H29: Relève de l'aménagement du site, relativement simple si pris en considération suffisamment à l'avance | I29: =IF(D29="Non","Dimensionner les passages et files d'attente pour la circulation et les manœuvres d'une personne en fauteuil roulant.","") | K29: X | L29: Choix déroulant oui / non
A30: E4. Admission / Billetterie | B30: Des files d’attente alternatives ou prioritaires sont-elles prévues ? | E30: {=_xlfn.IFS(D30="Oui",4,D30="Non",0,D30="Non applicable","N/A")} -> #N/A | F30: Niv. 2 | G30: Moyen | H30: Nécessite une signalisation spécifique et du personnel informé | I30: =IF(D30="Non","Mettre en place des files d'attente alternatives ou prioritaires.","") | K30: X | L30: Choix déroulant oui / non / non applicable
A31: E5. Admission / Billetterie | B31: Les points de contrôle (billetterie, fouille) sont-ils disponibles à différentes hauteurs ? | E31: {=_xlfn.IFS(D31="Oui",2,D31="Non",0,D31="Non applicable","N/A")} -> #N/A | F31: Niv. 3 | G31: Faible | H31: Adaptation légère du mobilier (achat ou solutions "maisons" respectant les critères) | I31: =IF(D31="Non","Aménager les points de contrôle (billetterie, fouille) à différentes hauteurs.","") | K31: X | L31: Choix déroulant oui / non / non applicable
A32: F1. Circulation | B32: Les couloirs de circulation sont-ils suffisamment larges pour circuler et se croiser ? | C32: Prendre en considération des attroupements, le fait que les déplacements de population se font en même temps et dans la même direction (d'un spectacle à l'autre), parfois dans les 2 sens | E32: {=_xlfn.IFS(D32="Oui",6,D32="Non",0)} -> #N/A | F32: Niv. 1 | G32: Faible | H32: Relève de l'aménagement du site, relativement simple si pris en considération suffisamment à l'avance | I32: =IF(D32="Non","Prévoir des couloirs suffisamment larges pour permettre de circuler et de se croiser.","") | K32: X | L32: Choix déroulant oui / non
A33: F2. Circulation | B33: Y a-t-il des pentes abruptes ou longues le long du parcours? | E33: {=_xlfn.IFS(D33="Oui",0,D33="Non",6)} -> #N/A | F33: Niv. 1 | G33: Moyen | H33: Le repérage et la signalisation demandent peu de ressources, mais l’élimination d’une pente peut nécessiter des travaux plus importants sur le parcours | I33: =IF(D33="Oui","Éliminer ou signaler les pentes abruptes ou longues sur le parcours.","") | K33: X | L33: Choix déroulant oui / non
A34: F3. Circulation | B34: Y a-t-il des obstacles sur le parcours (racines, roches, fils électriques...) ? | E34: {=_xlfn.IFS(D34="Oui",0,D34="Non",6)} -> #N/A | F34: Niv. 1 | G34: Moyen | H34: Le repérage et la signalisation demandent peu de ressources, mais certains obstacles peuvent nécessiter des travaux ou des modifications plus importantes pour être retirés. | I34: =IF(D34="Oui","Retirer ou signaler les obstacles présents sur le parcours.","") | K34: X | L34: Choix déroulant oui / non
A35: F4. Circulation | B35: Les revêtements temporaires (tapis, biseaux, passerelles, etc.) sont-ils bien fixés ? | E35: {=_xlfn.IFS(D35="Oui",6,D35="Non",0,D35="Non applicable","N/A")} -> #N/A | F35: Niv. 1 | G35: Faible | H35: Intervention simple au moment de l'installation | I35: =IF(D35="Non","Fixer solidement les revêtements temporaires.","") | K35: X | L35: Choix déroulant oui / non / non applicable si utilisation d'installations permanentes
A36: F5. Circulation | B36: Certaines zones du festival sont-elles inaccessibles pour une personne à mobilité réduite ? | E36: {=_xlfn.IFS(D36="Oui",0,D36="Non",4)} -> #N/A | F36: Niv. 2 | G36: Moyen | H36: Nécessite une analyse du site et la réflexion d'alternatives. ’effort reste modéré lorsque cette réflexion est intégrée suffisamment tôt à la planification. | I36: =IF(D36="Oui","Répertorier et identifier les zones inaccessibles aux personnes à mobilité réduite et prévoir des solutions alternatives.","") | K36: X | L36: Choix déroulant oui / non
A37: F6. Circulation | B37: Les zones de circulation ont-elles un revêtement dur ? | E37: {=_xlfn.IFS(D37="Oui",6,D37="Non",0)} -> #N/A | F37: Niv. 1 | G37: Moyen | H37: Peut nécessiter une intervention importante sur le sol ou l’achat et l’installation de revêtements temporaires adaptés. | I37: =IF(D37="Non","Aménager les zones de circulation avec un revêtement dur.","") | K37: X | L37: Choix déroulant oui / non
A38: F7. Circulation | B38: Y a-t-il des corridors de circulation réservés pour des personnes en situation de handicap ? | C38: Coupe-fils pour accéder aux toilettes, bars, plateforme réservée, accueil ... | E38: {=_xlfn.IFS(D38="Oui",4,D38="Non",0,D38="Non applicable","N/A")} -> #N/A | F38: Niv. 2 | G38: Moyen | H38: Demande une réflexion sur l’aménagement du site, l’ajout possible de barrières et une gestion des flux pendant l’événement. | I38: =IF(D38="Non","Prévoir des corridors de circulation réservés, au besoin.","") | J38: X | L38: Choix déroulant oui / non / non applicable
A39: F8. Circulation | B39: Des itinéraires alternatifs sont-ils proposés lorsque certaines zones sont plus exigeantes physiquement ? | E39: {=_xlfn.IFS(D39="Oui",4,D39="Non",0,D39="Non applicable","N/A")} -> #N/A | F39: Niv. 2 | G39: Moyen | H39: Relève de l'aménagement du site, relativement simple si pris en considération suffisamment à l'avance | I39: =IF(D39="Non","Proposer des itinéraires alternatifs pour les zones physiquement exigeantes.","") | K39: X | L39: Dépendant F2 et F3 - si oui = choix déroulant oui / non Si non = Non applicable
A40: F9. Circulation | B40: Les cache-fils sont-ils en pente douce ? | C40: Avec des côtés plus longs pour permettre un franchissement plus facile | E40: {=_xlfn.IFS(D40="Oui",4,D40="Non",0,D40="Non applicable","N/A")} -> #N/A | F40: Niv. 2 | G40: Faible | H40: Achat de cache-fils conformes en remplacement des anciens. Installation identique | I40: =IF(D40="Non","Aménager les cache-fils en pente douce.","") | K40: X | L40: Choix déroulant oui / non / non applicable
...

Sheet Bilan
B1: Points possibles | C1: Points obtenus | D1: Points restants à obtenir | E1: % de conformité
A2: Niveau 1 | B2: {=SUMPRODUCT((Autodiagnostic!F2:F78="Niv. 1")*(Autodiagnostic!D2:D78<>"")*(Autodiagnostic!D2:D78<>"Non applicable"))*6} -> 0 | C2: =SUMIFS(Autodiagnostic!E2:E78,Autodiagnostic!F2:F78,"Niv. 1",Autodiagnostic!D2:D78,"<>",Autodiagnostic!D2:D78,"<>Non applicable") -> 0 | D2: =B2-C2 -> 0 | E2: =((C2*100)/B2)/100 -> #DIV/0!
A3: Niveau 2 | B3: {=SUMPRODUCT((Autodiagnostic!F2:F78="Niv. 2")*(Autodiagnostic!D2:D78<>"")*(Autodiagnostic!D2:D78<>"Non applicable"))*4} -> 0 | C3: =SUMIFS(Autodiagnostic!E2:E78,Autodiagnostic!F2:F78,"Niv. 2",Autodiagnostic!D2:D78,"<>",Autodiagnostic!D2:D78,"<>Non applicable") -> 0 | D3: =B3-C3 -> 0 | E3: =((C3*100)/B3)/100 -> #DIV/0!
A4: Niveau 3 | B4: {=SUMPRODUCT((Autodiagnostic!F2:F78="Niv. 3")*(Autodiagnostic!D2:D78<>"")*(Autodiagnostic!D2:D78<>"Non applicable"))*2} -> 0 | C4: =SUMIFS(Autodiagnostic!E2:E78,Autodiagnostic!F2:F78,"Niv. 3",Autodiagnostic!D2:D78,"<>",Autodiagnostic!D2:D78,"<>Non applicable") -> 0 | D4: =B4-C4 -> 0 | E4: =((C4*100)/B4)/100 -> #DIV/0!
A5: Total | B5: =SUM(B2:B4) -> 0 | C5: =SUM(C2:C4) -> 0 | D5: =SUM(D2:D4) -> 0 | E5: =((C5*100)/B5)/100 -> #DIV/0!

Sheet Plan d'action
B1: Plan d’action : actions à prévoir
B2: Cette liste se remplit automatiquement à partir de vos réponses dans l'onglet Autodiagnostic. Seules les questions dont la réponse appelle une action apparaissent, dans l'ordre des thématiques (A1, A2... L5). Si vous modifiez une réponse dans l'onglet Autodiagnostic, la liste se met à jour automatiquement.
B3: Nombre d’actions à prévoir : | C3: =COUNT($L$5:$L$81) -> 0
A4: N° | B4: Thématique | C4: Question | D4: Votre réponse | E4: Action à prévoir | F4: Priorité | G4: Effort estimé | H4: Justification de l'effort
A5: =IF($K5="","",1) | B5: =IF($K5="","",INDEX(Autodiagnostic!$A$1:$A$78,$K5)) | C5: =IF($K5="","",INDEX(Autodiagnostic!$B$1:$B$78,$K5)) | D5: =IF($K5="","",INDEX(Autodiagnostic!$D$1:$D$78,$K5)) | E5: =IF($K5="","",INDEX(Autodiagnostic!$I$1:$I$78,$K5)) | F5: =IF($K5="","",INDEX(Autodiagnostic!$F$1:$F$78,$K5)) | G5: =IF($K5="","",INDEX(Autodiagnostic!$G$1:$G$78,$K5)) | H5: =IF($K5="","",INDEX(Autodiagnostic!$H$1:$H$78,$K5)) | K5: =IFERROR(MOD(SMALL($L$5:$L$81,1),1000),"") | L5: =IF(Autodiagnostic!I2="","",2)
A6: =IF($K6="","",2) | B6: =IF($K6="","",INDEX(Autodiagnostic!$A$1:$A$78,$K6)) | C6: =IF($K6="","",INDEX(Autodiagnostic!$B$1:$B$78,$K6)) | D6: =IF($K6="","",INDEX(Autodiagnostic!$D$1:$D$78,$K6)) | E6: =IF($K6="","",INDEX(Autodiagnostic!$I$1:$I$78,$K6)) | F6: =IF($K6="","",INDEX(Autodiagnostic!$F$1:$F$78,$K6)) | G6: =IF($K6="","",INDEX(Autodiagnostic!$G$1:$G$78,$K6)) | H6: =IF($K6="","",INDEX(Autodiagnostic!$H$1:$H$78,$K6)) | K6: =IFERROR(MOD(SMALL($L$5:$L$81,2),1000),"") | L6: =IF(Autodiagnostic!I3="","",3)
A7: =IF($K7="","",3) | B7: =IF($K7="","",INDEX(Autodiagnostic!$A$1:$A$78,$K7)) | C7: =IF($K7="","",INDEX(Autodiagnostic!$B$1:$B$78,$K7)) | D7: =IF($K7="","",INDEX(Autodiagnostic!$D$1:$D$78,$K7)) | E7: =IF($K7="","",INDEX(Autodiagnostic!$I$1:$I$78,$K7)) | F7: =IF($K7="","",INDEX(Autodiagnostic!$F$1:$F$78,$K7)) | G7: =IF($K7="","",INDEX(Autodiagnostic!$G$1:$G$78,$K7)) | H7: =IF($K7="","",INDEX(Autodiagnostic!$H$1:$H$78,$K7)) | K7: =IFERROR(MOD(SMALL($L$5:$L$81,3),1000),"") | L7: =IF(Autodiagnostic!I4="","",4)
A8: =IF($K8="","",4) | B8: =IF($K8="","",INDEX(Autodiagnostic!$A$1:$A$78,$K8)) | C8: =IF($K8="","",INDEX(Autodiagnostic!$B$1:$B$78,$K8)) | D8: =IF($K8="","",INDEX(Autodiagnostic!$D$1:$D$78,$K8)) | E8: =IF($K8="","",INDEX(Autodiagnostic!$I$1:$I$78,$K8)) | F8: =IF($K8="","",INDEX(Autodiagnostic!$F$1:$F$78,$K8)) | G8: =IF($K8="","",INDEX(Autodiagnostic!$G$1:$G$78,$K8)) | H8: =IF($K8="","",INDEX(Autodiagnostic!$H$1:$H$78,$K8)) | K8: =IFERROR(MOD(SMALL($L$5:$L$81,4),1000),"") | L8: =IF(Autodiagnostic!I5="","",5)
A9: =IF($K9="","",5) | B9: =IF($K9="","",INDEX(Autodiagnostic!$A$1:$A$78,$K9)) | C9: =IF($K9="","",INDEX(Autodiagnostic!$B$1:$B$78,$K9)) | D9: =IF($K9="","",INDEX(Autodiagnostic!$D$1:$D$78,$K9)) | E9: =IF($K9="","",INDEX(Autodiagnostic!$I$1:$I$78,$K9)) | F9: =IF($K9="","",INDEX(Autodiagnostic!$F$1:$F$78,$K9)) | G9: =IF($K9="","",INDEX(Autodiagnostic!$G$1:$G$78,$K9)) | H9: =IF($K9="","",INDEX(Autodiagnostic!$H$1:$H$78,$K9)) | K9: =IFERROR(MOD(SMALL($L$5:$L$81,5),1000),"") | L9: =IF(Autodiagnostic!I6="","",6)
A10: =IF($K10="","",6) | B10: =IF($K10="","",INDEX(Autodiagnostic!$A$1:$A$78,$K10)) | C10: =IF($K10="","",INDEX(Autodiagnostic!$B$1:$B$78,$K10)) | D10: =IF($K10="","",INDEX(Autodiagnostic!$D$1:$D$78,$K10)) | E10: =IF($K10="","",INDEX(Autodiagnostic!$I$1:$I$78,$K10)) | F10: =IF($K10="","",INDEX(Autodiagnostic!$F$1:$F$78,$K10)) | G10: =IF($K10="","",INDEX(Autodiagnostic!$G$1:$G$78,$K10)) | H10: =IF($K10="","",INDEX(Autodiagnostic!$H$1:$H$78,$K10)) | K10: =IFERROR(MOD(SMALL($L$5:$L$81,6),1000),"") | L10: =IF(Autodiagnostic!I7="","",7)
A11: =IF($K11="","",7) | B11: =IF($K11="","",INDEX(Autodiagnostic!$A$1:$A$78,$K11)) | C11: =IF($K11="","",INDEX(Autodiagnostic!$B$1:$B$78,$K11)) | D11: =IF($K11="","",INDEX(Autodiagnostic!$D$1:$D$78,$K11)) | E11: =IF($K11="","",INDEX(Autodiagnostic!$I$1:$I$78,$K11)) | F11: =IF($K11="","",INDEX(Autodiagnostic!$F$1:$F$78,$K11)) | G11: =IF($K11="","",INDEX(Autodiagnostic!$G$1:$G$78,$K11)) | H11: =IF($K11="","",INDEX(Autodiagnostic!$H$1:$H$78,$K11)) | K11: =IFERROR(MOD(SMALL($L$5:$L$81,7),1000),"") | L11: =IF(Autodiagnostic!I8="","",8)
A12: =IF($K12="","",8) | B12: =IF($K12="","",INDEX(Autodiagnostic!$A$1:$A$78,$K12)) | C12: =IF($K12="","",INDEX(Autodiagnostic!$B$1:$B$78,$K12)) | D12: =IF($K12="","",INDEX(Autodiagnostic!$D$1:$D$78,$K12)) | E12: =IF($K12="","",INDEX(Autodiagnostic!$I$1:$I$78,$K12)) | F12: =IF($K12="","",INDEX(Autodiagnostic!$F$1:$F$78,$K12)) | G12: =IF($K12="","",INDEX(Autodiagnostic!$G$1:$G$78,$K12)) | H12: =IF($K12="","",INDEX(Autodiagnostic!$H$1:$H$78,$K12)) | K12: =IFERROR(MOD(SMALL($L$5:$L$81,8),1000),"") | L12: =IF(Autodiagnostic!I9="","",9)
A13: =IF($K13="","",9) | B13: =IF($K13="","",INDEX(Autodiagnostic!$A$1:$A$78,$K13)) | C13: =IF($K13="","",INDEX(Autodiagnostic!$B$1:$B$78,$K13)) | D13: =IF($K13="","",INDEX(Autodiagnostic!$D$1:$D$78,$K13)) | E13: =IF($K13="","",INDEX(Autodiagnostic!$I$1:$I$78,$K13)) | F13: =IF($K13="","",INDEX(Autodiagnostic!$F$1:$F$78,$K13)) | G13: =IF($K13="","",INDEX(Autodiagnostic!$G$1:$G$78,$K13)) | H13: =IF($K13="","",INDEX(Autodiagnostic!$H$1:$H$78,$K13)) | K13: =IFERROR(MOD(SMALL($L$5:$L$81,9),1000),"") | L13: =IF(Autodiagnostic!I10="","",10)
A14: =IF($K14="","",10) | B14: =IF($K14="","",INDEX(Autodiagnostic!$A$1:$A$78,$K14)) | C14: =IF($K14="","",INDEX(Autodiagnostic!$B$1:$B$78,$K14)) | D14: =IF($K14="","",INDEX(Autodiagnostic!$D$1:$D$78,$K14)) | E14: =IF($K14="","",INDEX(Autodiagnostic!$I$1:$I$78,$K14)) | F14: =IF($K14="","",INDEX(Autodiagnostic!$F$1:$F$78,$K14)) | G14: =IF($K14="","",INDEX(Autodiagnostic!$G$1:$G$78,$K14)) | H14: =IF($K14="","",INDEX(Autodiagnostic!$H$1:$H$78,$K14)) | K14: =IFERROR(MOD(SMALL($L$5:$L$81,10),1000),"") | L14: =IF(Autodiagnostic!I15="","",15)
A15: =IF($K15="","",11) | B15: =IF($K15="","",INDEX(Autodiagnostic!$A$1:$A$78,$K15)) | C15: =IF($K15="","",INDEX(Autodiagnostic!$B$1:$B$78,$K15)) | D15: =IF($K15="","",INDEX(Autodiagnostic!$D$1:$D$78,$K15)) | E15: =IF($K15="","",INDEX(Autodiagnostic!$I$1:$I$78,$K15)) | F15: =IF($K15="","",INDEX(Autodiagnostic!$F$1:$F$78,$K15)) | G15: =IF($K15="","",INDEX(Autodiagnostic!$G$1:$G$78,$K15)) | H15: =IF($K15="","",INDEX(Autodiagnostic!$H$1:$H$78,$K15)) | K15: =IFERROR(MOD(SMALL($L$5:$L$81,11),1000),"") | L15: =IF(Autodiagnostic!I11="","",11)
A16: =IF($K16="","",12) | B16: =IF($K16="","",INDEX(Autodiagnostic!$A$1:$A$78,$K16)) | C16: =IF($K16="","",INDEX(Autodiagnostic!$B$1:$B$78,$K16)) | D16: =IF($K16="","",INDEX(Autodiagnostic!$D$1:$D$78,$K16)) | E16: =IF($K16="","",INDEX(Autodiagnostic!$I$1:$I$78,$K16)) | F16: =IF($K16="","",INDEX(Autodiagnostic!$F$1:$F$78,$K16)) | G16: =IF($K16="","",INDEX(Autodiagnostic!$G$1:$G$78,$K16)) | H16: =IF($K16="","",INDEX(Autodiagnostic!$H$1:$H$78,$K16)) | K16: =IFERROR(MOD(SMALL($L$5:$L$81,12),1000),"") | L16: =IF(Autodiagnostic!I12="","",12)
A17: =IF($K17="","",13) | B17: =IF($K17="","",INDEX(Autodiagnostic!$A$1:$A$78,$K17)) | C17: =IF($K17="","",INDEX(Autodiagnostic!$B$1:$B$78,$K17)) | D17: =IF($K17="","",INDEX(Autodiagnostic!$D$1:$D$78,$K17)) | E17: =IF($K17="","",INDEX(Autodiagnostic!$I$1:$I$78,$K17)) | F17: =IF($K17="","",INDEX(Autodiagnostic!$F$1:$F$78,$K17)) | G17: =IF($K17="","",INDEX(Autodiagnostic!$G$1:$G$78,$K17)) | H17: =IF($K17="","",INDEX(Autodiagnostic!$H$1:$H$78,$K17)) | K17: =IFERROR(MOD(SMALL($L$5:$L$81,13),1000),"") | L17: =IF(Autodiagnostic!I13="","",13)
A18: =IF($K18="","",14) | B18: =IF($K18="","",INDEX(Autodiagnostic!$A$1:$A$78,$K18)) | C18: =IF($K18="","",INDEX(Autodiagnostic!$B$1:$B$78,$K18)) | D18: =IF($K18="","",INDEX(Autodiagnostic!$D$1:$D$78,$K18)) | E18: =IF($K18="","",INDEX(Autodiagnostic!$I$1:$I$78,$K18)) | F18: =IF($K18="","",INDEX(Autodiagnostic!$F$1:$F$78,$K18)) | G18: =IF($K18="","",INDEX(Autodiagnostic!$G$1:$G$78,$K18)) | H18: =IF($K18="","",INDEX(Autodiagnostic!$H$1:$H$78,$K18)) | K18: =IFERROR(MOD(SMALL($L$5:$L$81,14),1000),"") | L18: =IF(Autodiagnostic!I14="","",14)
A19: =IF($K19="","",15) | B19: =IF($K19="","",INDEX(Autodiagnostic!$A$1:$A$78,$K19)) | C19: =IF($K19="","",INDEX(Autodiagnostic!$B$1:$B$78,$K19)) | D19: =IF($K19="","",INDEX(Autodiagnostic!$D$1:$D$78,$K19)) | E19: =IF($K19="","",INDEX(Autodiagnostic!$I$1:$I$78,$K19)) | F19: =IF($K19="","",INDEX(Autodiagnostic!$F$1:$F$78,$K19)) | G19: =IF($K19="","",INDEX(Autodiagnostic!$G$1:$G$78,$K19)) | H19: =IF($K19="","",INDEX(Autodiagnostic!$H$1:$H$78,$K19)) | K19: =IFERROR(MOD(SMALL($L$5:$L$81,15),1000),"") | L19: =IF(Autodiagnostic!I16="","",16)
A20: =IF($K20="","",16) | B20: =IF($K20="","",INDEX(Autodiagnostic!$A$1:$A$78,$K20)) | C20: =IF($K20="","",INDEX(Autodiagnostic!$B$1:$B$78,$K20)) | D20: =IF($K20="","",INDEX(Autodiagnostic!$D$1:$D$78,$K20)) | E20: =IF($K20="","",INDEX(Autodiagnostic!$I$1:$I$78,$K20)) | F20: =IF($K20="","",INDEX(Autodiagnostic!$F$1:$F$78,$K20)) | G20: =IF($K20="","",INDEX(Autodiagnostic!$G$1:$G$78,$K20)) | H20: =IF($K20="","",INDEX(Autodiagnostic!$H$1:$H$78,$K20)) | K20: =IFERROR(MOD(SMALL($L$5:$L$81,16),1000),"") | L20: =IF(Autodiagnostic!I17="","",17)
A21: =IF($K21="","",17) | B21: =IF($K21="","",INDEX(Autodiagnostic!$A$1:$A$78,$K21)) | C21: =IF($K21="","",INDEX(Autodiagnostic!$B$1:$B$78,$K21)) | D21: =IF($K21="","",INDEX(Autodiagnostic!$D$1:$D$78,$K21)) | E21: =IF($K21="","",INDEX(Autodiagnostic!$I$1:$I$78,$K21)) | F21: =IF($K21="","",INDEX(Autodiagnostic!$F$1:$F$78,$K21)) | G21: =IF($K21="","",INDEX(Autodiagnostic!$G$1:$G$78,$K21)) | H21: =IF($K21="","",INDEX(Autodiagnostic!$H$1:$H$78,$K21)) | K21: =IFERROR(MOD(SMALL($L$5:$L$81,17),1000),"") | L21: =IF(Autodiagnostic!I18="","",18)
A22: =IF($K22="","",18) | B22: =IF($K22="","",INDEX(Autodiagnostic!$A$1:$A$78,$K22)) | C22: =IF($K22="","",INDEX(Autodiagnostic!$B$1:$B$78,$K22)) | D22: =IF($K22="","",INDEX(Autodiagnostic!$D$1:$D$78,$K22)) | E22: =IF($K22="","",INDEX(Autodiagnostic!$I$1:$I$78,$K22)) | F22: =IF($K22="","",INDEX(Autodiagnostic!$F$1:$F$78,$K22)) | G22: =IF($K22="","",INDEX(Autodiagnostic!$G$1:$G$78,$K22)) | H22: =IF($K22="","",INDEX(Autodiagnostic!$H$1:$H$78,$K22)) | K22: =IFERROR(MOD(SMALL($L$5:$L$81,18),1000),"") | L22: =IF(Autodiagnostic!I19="","",19)
A23: =IF($K23="","",19) | B23: =IF($K23="","",INDEX(Autodiagnostic!$A$1:$A$78,$K23)) | C23: =IF($K23="","",INDEX(Autodiagnostic!$B$1:$B$78,$K23)) | D23: =IF($K23="","",INDEX(Autodiagnostic!$D$1:$D$78,$K23)) | E23: =IF($K23="","",INDEX(Autodiagnostic!$I$1:$I$78,$K23)) | F23: =IF($K23="","",INDEX(Autodiagnostic!$F$1:$F$78,$K23)) | G23: =IF($K23="","",INDEX(Autodiagnostic!$G$1:$G$78,$K23)) | H23: =IF($K23="","",INDEX(Autodiagnostic!$H$1:$H$78,$K23)) | K23: =IFERROR(MOD(SMALL($L$5:$L$81,19),1000),"") | L23: =IF(Autodiagnostic!I20="","",20)
A24: =IF($K24="","",20) | B24: =IF($K24="","",INDEX(Autodiagnostic!$A$1:$A$78,$K24)) | C24: =IF($K24="","",INDEX(Autodiagnostic!$B$1:$B$78,$K24)) | D24: =IF($K24="","",INDEX(Autodiagnostic!$D$1:$D$78,$K24)) | E24: =IF($K24="","",INDEX(Autodiagnostic!$I$1:$I$78,$K24)) | F24: =IF($K24="","",INDEX(Autodiagnostic!$F$1:$F$78,$K24)) | G24: =IF($K24="","",INDEX(Autodiagnostic!$G$1:$G$78,$K24)) | H24: =IF($K24="","",INDEX(Autodiagnostic!$H$1:$H$78,$K24)) | K24: =IFERROR(MOD(SMALL($L$5:$L$81,20),1000),"") | L24: =IF(Autodiagnostic!I21="","",21)
A25: =IF($K25="","",21) | B25: =IF($K25="","",INDEX(Autodiagnostic!$A$1:$A$78,$K25)) | C25: =IF($K25="","",INDEX(Autodiagnostic!$B$1:$B$78,$K25)) | D25: =IF($K25="","",INDEX(Autodiagnostic!$D$1:$D$78,$K25)) | E25: =IF($K25="","",INDEX(Autodiagnostic!$I$1:$I$78,$K25)) | F25: =IF($K25="","",INDEX(Autodiagnostic!$F$1:$F$78,$K25)) | G25: =IF($K25="","",INDEX(Autodiagnostic!$G$1:$G$78,$K25)) | H25: =IF($K25="","",INDEX(Autodiagnostic!$H$1:$H$78,$K25)) | K25: =IFERROR(MOD(SMALL($L$5:$L$81,21),1000),"") | L25: =IF(Autodiagnostic!I24="","",24)
A26: =IF($K26="","",22) | B26: =IF($K26="","",INDEX(Autodiagnostic!$A$1:$A$78,$K26)) | C26: =IF($K26="","",INDEX(Autodiagnostic!$B$1:$B$78,$K26)) | D26: =IF($K26="","",INDEX(Autodiagnostic!$D$1:$D$78,$K26)) | E26: =IF($K26="","",INDEX(Autodiagnostic!$I$1:$I$78,$K26)) | F26: =IF($K26="","",INDEX(Autodiagnostic!$F$1:$F$78,$K26)) | G26: =IF($K26="","",INDEX(Autodiagnostic!$G$1:$G$78,$K26)) | H26: =IF($K26="","",INDEX(Autodiagnostic!$H$1:$H$78,$K26)) | K26: =IFERROR(MOD(SMALL($L$5:$L$81,22),1000),"") | L26: =IF(Autodiagnostic!I25="","",25)
A27: =IF($K27="","",23) | B27: =IF($K27="","",INDEX(Autodiagnostic!$A$1:$A$78,$K27)) | C27: =IF($K27="","",INDEX(Autodiagnostic!$B$1:$B$78,$K27)) | D27: =IF($K27="","",INDEX(Autodiagnostic!$D$1:$D$78,$K27)) | E27: =IF($K27="","",INDEX(Autodiagnostic!$I$1:$I$78,$K27)) | F27: =IF($K27="","",INDEX(Autodiagnostic!$F$1:$F$78,$K27)) | G27: =IF($K27="","",INDEX(Autodiagnostic!$G$1:$G$78,$K27)) | H27: =IF($K27="","",INDEX(Autodiagnostic!$H$1:$H$78,$K27)) | K27: =IFERROR(MOD(SMALL($L$5:$L$81,23),1000),"") | L27: =IF(Autodiagnostic!I22="","",22)
A28: =IF($K28="","",24) | B28: =IF($K28="","",INDEX(Autodiagnostic!$A$1:$A$78,$K28)) | C28: =IF($K28="","",INDEX(Autodiagnostic!$B$1:$B$78,$K28)) | D28: =IF($K28="","",INDEX(Autodiagnostic!$D$1:$D$78,$K28)) | E28: =IF($K28="","",INDEX(Autodiagnostic!$I$1:$I$78,$K28)) | F28: =IF($K28="","",INDEX(Autodiagnostic!$F$1:$F$78,$K28)) | G28: =IF($K28="","",INDEX(Autodiagnostic!$G$1:$G$78,$K28)) | H28: =IF($K28="","",INDEX(Autodiagnostic!$H$1:$H$78,$K28)) | K28: =IFERROR(MOD(SMALL($L$5:$L$81,24),1000),"") | L28: =IF(Autodiagnostic!I23="","",23)
A29: =IF($K29="","",25) | B29: =IF($K29="","",INDEX(Autodiagnostic!$A$1:$A$78,$K29)) | C29: =IF($K29="","",INDEX(Autodiagnostic!$B$1:$B$78,$K29)) | D29: =IF($K29="","",INDEX(Autodiagnostic!$D$1:$D$78,$K29)) | E29: =IF($K29="","",INDEX(Autodiagnostic!$I$1:$I$78,$K29)) | F29: =IF($K29="","",INDEX(Autodiagnostic!$F$1:$F$78,$K29)) | G29: =IF($K29="","",INDEX(Autodiagnostic!$G$1:$G$78,$K29)) | H29: =IF($K29="","",INDEX(Autodiagnostic!$H$1:$H$78,$K29)) | K29: =IFERROR(MOD(SMALL($L$5:$L$81,25),1000),"") | L29: =IF(Autodiagnostic!I26="","",26)
A30: =IF($K30="","",26) | B30: =IF($K30="","",INDEX(Autodiagnostic!$A$1:$A$78,$K30)) | C30: =IF($K30="","",INDEX(Autodiagnostic!$B$1:$B$78,$K30)) | D30: =IF($K30="","",INDEX(Autodiagnostic!$D$1:$D$78,$K30)) | E30: =IF($K30="","",INDEX(Autodiagnostic!$I$1:$I$78,$K30)) | F30: =IF($K30="","",INDEX(Autodiagnostic!$F$1:$F$78,$K30)) | G30: =IF($K30="","",INDEX(Autodiagnostic!$G$1:$G$78,$K30)) | H30: =IF($K30="","",INDEX(Autodiagnostic!$H$1:$H$78,$K30)) | K30: =IFERROR(MOD(SMALL($L$5:$L$81,26),1000),"") | L30: =IF(Autodiagnostic!I27="","",27)
A31: =IF($K31="","",27) | B31: =IF($K31="","",INDEX(Autodiagnostic!$A$1:$A$78,$K31)) | C31: =IF($K31="","",INDEX(Autodiagnostic!$B$1:$B$78,$K31)) | D31: =IF($K31="","",INDEX(Autodiagnostic!$D$1:$D$78,$K31)) | E31: =IF($K31="","",INDEX(Autodiagnostic!$I$1:$I$78,$K31)) | F31: =IF($K31="","",INDEX(Autodiagnostic!$F$1:$F$78,$K31)) | G31: =IF($K31="","",INDEX(Autodiagnostic!$G$1:$G$78,$K31)) | H31: =IF($K31="","",INDEX(Autodiagnostic!$H$1:$H$78,$K31)) | K31: =IFERROR(MOD(SMALL($L$5:$L$81,27),1000),"") | L31: =IF(Autodiagnostic!I28="","",28)
A32: =IF($K32="","",28) | B32: =IF($K32="","",INDEX(Autodiagnostic!$A$1:$A$78,$K32)) | C32: =IF($K32="","",INDEX(Autodiagnostic!$B$1:$B$78,$K32)) | D32: =IF($K32="","",INDEX(Autodiagnostic!$D$1:$D$78,$K32)) | E32: =IF($K32="","",INDEX(Autodiagnostic!$I$1:$I$78,$K32)) | F32: =IF($K32="","",INDEX(Autodiagnostic!$F$1:$F$78,$K32)) | G32: =IF($K32="","",INDEX(Autodiagnostic!$G$1:$G$78,$K32)) | H32: =IF($K32="","",INDEX(Autodiagnostic!$H$1:$H$78,$K32)) | K32: =IFERROR(MOD(SMALL($L$5:$L$81,28),1000),"") | L32: =IF(Autodiagnostic!I29="","",29)
A33: =IF($K33="","",29) | B33: =IF($K33="","",INDEX(Autodiagnostic!$A$1:$A$78,$K33)) | C33: =IF($K33="","",INDEX(Autodiagnostic!$B$1:$B$78,$K33)) | D33: =IF($K33="","",INDEX(Autodiagnostic!$D$1:$D$78,$K33)) | E33: =IF($K33="","",INDEX(Autodiagnostic!$I$1:$I$78,$K33)) | F33: =IF($K33="","",INDEX(Autodiagnostic!$F$1:$F$78,$K33)) | G33: =IF($K33="","",INDEX(Autodiagnostic!$G$1:$G$78,$K33)) | H33: =IF($K33="","",INDEX(Autodiagnostic!$H$1:$H$78,$K33)) | K33: =IFERROR(MOD(SMALL($L$5:$L$81,29),1000),"") | L33: =IF(Autodiagnostic!I30="","",30)
A34: =IF($K34="","",30) | B34: =IF($K34="","",INDEX(Autodiagnostic!$A$1:$A$78,$K34)) | C34: =IF($K34="","",INDEX(Autodiagnostic!$B$1:$B$78,$K34)) | D34: =IF($K34="","",INDEX(Autodiagnostic!$D$1:$D$78,$K34)) | E34: =IF($K34="","",INDEX(Autodiagnostic!$I$1:$I$78,$K34)) | F34: =IF($K34="","",INDEX(Autodiagnostic!$F$1:$F$78,$K34)) | G34: =IF($K34="","",INDEX(Autodiagnostic!$G$1:$G$78,$K34)) | H34: =IF($K34="","",INDEX(Autodiagnostic!$H$1:$H$78,$K34)) | K34: =IFERROR(MOD(SMALL($L$5:$L$81,30),1000),"") | L34: =IF(Autodiagnostic!I31="","",31)
A35: =IF($K35="","",31) | B35: =IF($K35="","",INDEX(Autodiagnostic!$A$1:$A$78,$K35)) | C35: =IF($K35="","",INDEX(Autodiagnostic!$B$1:$B$78,$K35)) | D35: =IF($K35="","",INDEX(Autodiagnostic!$D$1:$D$78,$K35)) | E35: =IF($K35="","",INDEX(Autodiagnostic!$I$1:$I$78,$K35)) | F35: =IF($K35="","",INDEX(Autodiagnostic!$F$1:$F$78,$K35)) | G35: =IF($K35="","",INDEX(Autodiagnostic!$G$1:$G$78,$K35)) | H35: =IF($K35="","",INDEX(Autodiagnostic!$H$1:$H$78,$K35)) | K35: =IFERROR(MOD(SMALL($L$5:$L$81,31),1000),"") | L35: =IF(Autodiagnostic!I32="","",32)
A36: =IF($K36="","",32) | B36: =IF($K36="","",INDEX(Autodiagnostic!$A$1:$A$78,$K36)) | C36: =IF($K36="","",INDEX(Autodiagnostic!$B$1:$B$78,$K36)) | D36: =IF($K36="","",INDEX(Autodiagnostic!$D$1:$D$78,$K36)) | E36: =IF($K36="","",INDEX(Autodiagnostic!$I$1:$I$78,$K36)) | F36: =IF($K36="","",INDEX(Autodiagnostic!$F$1:$F$78,$K36)) | G36: =IF($K36="","",INDEX(Autodiagnostic!$G$1:$G$78,$K36)) | H36: =IF($K36="","",INDEX(Autodiagnostic!$H$1:$H$78,$K36)) | K36: =IFERROR(MOD(SMALL($L$5:$L$81,32),1000),"") | L36: =IF(Autodiagnostic!I33="","",33)
A37: =IF($K37="","",33) | B37: =IF($K37="","",INDEX(Autodiagnostic!$A$1:$A$78,$K37)) | C37: =IF($K37="","",INDEX(Autodiagnostic!$B$1:$B$78,$K37)) | D37: =IF($K37="","",INDEX(Autodiagnostic!$D$1:$D$78,$K37)) | E37: =IF($K37="","",INDEX(Autodiagnostic!$I$1:$I$78,$K37)) | F37: =IF($K37="","",INDEX(Autodiagnostic!$F$1:$F$78,$K37)) | G37: =IF($K37="","",INDEX(Autodiagnostic!$G$1:$G$78,$K37)) | H37: =IF($K37="","",INDEX(Autodiagnostic!$H$1:$H$78,$K37)) | K37: =IFERROR(MOD(SMALL($L$5:$L$81,33),1000),"") | L37: =IF(Autodiagnostic!I34="","",34)
A38: =IF($K38="","",34) | B38: =IF($K38="","",INDEX(Autodiagnostic!$A$1:$A$78,$K38)) | C38: =IF($K38="","",INDEX(Autodiagnostic!$B$1:$B$78,$K38)) | D38: =IF($K38="","",INDEX(Autodiagnostic!$D$1:$D$78,$K38)) | E38: =IF($K38="","",INDEX(Autodiagnostic!$I$1:$I$78,$K38)) | F38: =IF($K38="","",INDEX(Autodiagnostic!$F$1:$F$78,$K38)) | G38: =IF($K38="","",INDEX(Autodiagnostic!$G$1:$G$78,$K38)) | H38: =IF($K38="","",INDEX(Autodiagnostic!$H$1:$H$78,$K38)) | K38: =IFERROR(MOD(SMALL($L$5:$L$81,34),1000),"") | L38: =IF(Autodiagnostic!I35="","",35)
A39: =IF($K39="","",35) | B39: =IF($K39="","",INDEX(Autodiagnostic!$A$1:$A$78,$K39)) | C39: =IF($K39="","",INDEX(Autodiagnostic!$B$1:$B$78,$K39)) | D39: =IF($K39="","",INDEX(Autodiagnostic!$D$1:$D$78,$K39)) | E39: =IF($K39="","",INDEX(Autodiagnostic!$I$1:$I$78,$K39)) | F39: =IF($K39="","",INDEX(Autodiagnostic!$F$1:$F$78,$K39)) | G39: =IF($K39="","",INDEX(Autodiagnostic!$G$1:$G$78,$K39)) | H39: =IF($K39="","",INDEX(Autodiagnostic!$H$1:$H$78,$K39)) | K39: =IFERROR(MOD(SMALL($L$5:$L$81,35),1000),"") | L39: =IF(Autodiagnostic!I36="","",36)
A40: =IF($K40="","",36) | B40: =IF($K40="","",INDEX(Autodiagnostic!$A$1:$A$78,$K40)) | C40: =IF($K40="","",INDEX(Autodiagnostic!$B$1:$B$78,$K40)) | D40: =IF($K40="","",INDEX(Autodiagnostic!$D$1:$D$78,$K40)) | E40: =IF($K40="","",INDEX(Autodiagnostic!$I$1:$I$78,$K40)) | F40: =IF($K40="","",INDEX(Autodiagnostic!$F$1:$F$78,$K40)) | G40: =IF($K40="","",INDEX(Autodiagnostic!$G$1:$G$78,$K40)) | H40: =IF($K40="","",INDEX(Autodiagnostic!$H$1:$H$78,$K40)) | K40: =IFERROR(MOD(SMALL($L$5:$L$81,36),1000),"") | L40: =IF(Autodiagnostic!I42="","",42)
...
